BEGIN:VCALENDAR
PRODID:-//Microsoft Corporation//Outlook 12.0 MIMEDIR//EN
VERSION:2.0
METHOD:PUBLISH
X-MS-OLK-FORCEINSPECTOROPEN:TRUE
BEGIN:VEVENT
CLASS:PUBLIC
CREATED:20170620T154500Z
DESCRIPTION:
DTEND:20170701T000000Z
DTSTAMP:20170620T154500Z
DTSTART:20170701T000000Z
LAST-MODIFIED:20170620T154500Z
LOCATION:Bredasdorp
PRIORITY:5
SEQUENCE:0
SUMMARY;LANGUAGE=en-us:Tip of Africa Street Market in celebration of a new era
TRANSP:OPAQUE
UID:20210425T175504-2123120143-wcdlg
X-MICROSOFT-CDO-BUSYSTATUS:BUSY
X-MICROSOFT-CDO-IMPORTANCE:1
X-MICROSOFT-DISALLOW-COUNTER:FALSE
X-MS-OLK-ALLOWEXTERNCHECK:TRUE
X-MS-OLK-AUTOFILLLOCATION:FALSE
X-MS-OLK-CONFTYPE:0
BEGIN:VALARM
TRIGGER:-PT1440M
ACTION:DISPLAY
DESCRIPTION:Reminder
END:VALARM
END:VEVENT
END:VCALENDAR
