BEGIN:VCALENDAR
PRODID:-//Microsoft Corporation//Outlook 12.0 MIMEDIR//EN
VERSION:2.0
METHOD:PUBLISH
X-MS-OLK-FORCEINSPECTOROPEN:TRUE
BEGIN:VEVENT
CLASS:PUBLIC
CREATED:20190328T143900Z
DESCRIPTION:
DTEND:20190404T000000Z
DTSTAMP:20190328T143900Z
DTSTART:20190404T000000Z
LAST-MODIFIED:20190412T121600Z
LOCATION:Protem
PRIORITY:5
SEQUENCE:0
SUMMARY;LANGUAGE=en-us:Ward 4 - Protem, Imbizo: IDP, SDF and Budget
TRANSP:OPAQUE
UID:20210426T082624-187408505-wcdlg
X-MICROSOFT-CDO-BUSYSTATUS:BUSY
X-MICROSOFT-CDO-IMPORTANCE:1
X-MICROSOFT-DISALLOW-COUNTER:FALSE
X-MS-OLK-ALLOWEXTERNCHECK:TRUE
X-MS-OLK-AUTOFILLLOCATION:FALSE
X-MS-OLK-CONFTYPE:0
BEGIN:VALARM
TRIGGER:-PT1440M
ACTION:DISPLAY
DESCRIPTION:Reminder
END:VALARM
END:VEVENT
END:VCALENDAR
